BEGIN:VCALENDAR
VERSION:2.0
PRODID:icalendar-ruby
CALSCALE:GREGORIAN
METHOD:PUBLISH
BEGIN:VEVENT
DTSTAMP:20260425T142206Z
UID:34-3276688@woodburnchurch.org
DTSTART:20261107T020000Z
DTEND:20261107T030000Z
CLASS:PUBLIC
CREATED:20260425T064507
DESCRIPTION:Lord of Lords
LAST-MODIFIED:20260425T064507
LOCATION:Sanctuary
SUMMARY:Lord of Lords
URL;VALUE=URI:https://www.woodburnchurch.org/events/lord-of-lords--34/2026-
 11-06
END:VEVENT
END:VCALENDAR
