BEGIN:VCALENDAR
VERSION:2.0
PRODID:icalendar-ruby
CALSCALE:GREGORIAN
METHOD:PUBLISH
BEGIN:VEVENT
DTSTAMP:20260425T110706Z
UID:34-3274457@woodburnchurch.org
DTSTART:20261024T010000Z
DTEND:20261024T020000Z
CLASS:PUBLIC
CREATED:20260425T040341
DESCRIPTION:Lord of Lords
LAST-MODIFIED:20260425T040341
LOCATION:Sanctuary
SUMMARY:Lord of Lords
URL;VALUE=URI:https://www.woodburnchurch.org/events/lord-of-lords--34/2026-
 10-23
END:VEVENT
END:VCALENDAR
