BEGIN:VCALENDAR
VERSION:2.0
PRODID:icalendar-ruby
CALSCALE:GREGORIAN
METHOD:PUBLISH
BEGIN:VEVENT
DTSTAMP:20260425T031710Z
UID:34-3272225@woodburnchurch.org
DTSTART:20260926T010000Z
DTEND:20260926T020000Z
CLASS:PUBLIC
CREATED:20260424T181521
DESCRIPTION:Lord of Lords
LAST-MODIFIED:20260424T181521
LOCATION:Sanctuary
SUMMARY:Lord of Lords
URL;VALUE=URI:https://www.woodburnchurch.org/events/lord-of-lords--34/2026-
 09-25
END:VEVENT
END:VCALENDAR
