BEGIN:VCALENDAR
VERSION:2.0
PRODID:icalendar-ruby
CALSCALE:GREGORIAN
METHOD:PUBLISH
BEGIN:VEVENT
DTSTAMP:20260425T005211Z
UID:34-3269997@woodburnchurch.org
DTSTART:20260919T010000Z
DTEND:20260919T020000Z
CLASS:PUBLIC
CREATED:20260424T152714
DESCRIPTION:Lord of Lords
LAST-MODIFIED:20260424T152714
LOCATION:Sanctuary
SUMMARY:Lord of Lords
URL;VALUE=URI:https://www.woodburnchurch.org/events/lord-of-lords--34/2026-
 09-18
END:VEVENT
END:VCALENDAR
