BEGIN:VCALENDAR
VERSION:2.0
PRODID:icalendar-ruby
CALSCALE:GREGORIAN
METHOD:PUBLISH
BEGIN:VEVENT
DTSTAMP:20260422T013316Z
UID:17-3230912@woodburnchurch.org
DTSTART:20261004T170000Z
DTEND:20261004T183000Z
CLASS:PUBLIC
CREATED:20260421T170835
DESCRIPTION:Immanuel Lutheran Church\nWorship November 16\,at 10:00am   -
  Cascade Park\, 950 Cascade Dr\nWorship November 23 at 10:00 am - Immanuel
  Lutheran Church - Small Chapel\nNo Worship November 30\nWorship December 
 7\, at 10:00am - Courtside at Country Meadows\, 155 S Evergreen Road
LAST-MODIFIED:20260421T170835
LOCATION:
SUMMARY:Immanuel Lutheran Church
URL;VALUE=URI:https://www.woodburnchurch.org/events/immanuel-lutheran-churc
 h/2026-10-04
END:VEVENT
END:VCALENDAR
