BEGIN:VCALENDAR
VERSION:2.0
PRODID:icalendar-ruby
CALSCALE:GREGORIAN
METHOD:PUBLISH
BEGIN:VEVENT
DTSTAMP:20260423T065405Z
UID:16-3244028@woodburnchurch.org
DTSTART:20261101T230000Z
DTEND:20261102T010000Z
CLASS:PUBLIC
CREATED:20260422T183917
DESCRIPTION:Iglesia K.I.N.G (Kingdom Inter-National Gospel)
LAST-MODIFIED:20260422T183917
LOCATION:
SUMMARY:Iglesia K.I.N.G             
URL;VALUE=URI:https://www.woodburnchurch.org/events/iglesia-k-i-n-g/2026-11
 -01
END:VEVENT
END:VCALENDAR
