BEGIN:VCALENDAR
VERSION:2.0
PRODID:icalendar-ruby
CALSCALE:GREGORIAN
METHOD:PUBLISH
BEGIN:VEVENT
DTSTAMP:20260423T025618Z
UID:16-3244025@woodburnchurch.org
DTSTART:20261011T220000Z
DTEND:20261012T000000Z
CLASS:PUBLIC
CREATED:20260422T183917
DESCRIPTION:Iglesia K.I.N.G (Kingdom Inter-National Gospel)
LAST-MODIFIED:20260422T183917
LOCATION:
SUMMARY:Iglesia K.I.N.G             
URL;VALUE=URI:https://www.woodburnchurch.org/events/iglesia-k-i-n-g/2026-10
 -11
END:VEVENT
END:VCALENDAR
