BEGIN:VCALENDAR
VERSION:2.0
PRODID:icalendar-ruby
CALSCALE:GREGORIAN
METHOD:PUBLISH
BEGIN:VEVENT
DTSTAMP:20260422T204413Z
UID:16-3239572@woodburnchurch.org
DTSTART:20260913T220000Z
DTEND:20260914T000000Z
CLASS:PUBLIC
CREATED:20260422T125316
DESCRIPTION:Iglesia K.I.N.G (Kingdom Inter-National Gospel)
LAST-MODIFIED:20260422T125316
LOCATION:
SUMMARY:Iglesia K.I.N.G             
URL;VALUE=URI:https://www.woodburnchurch.org/events/iglesia-k-i-n-g/2026-09
 -13
END:VEVENT
END:VCALENDAR
