BEGIN:VCALENDAR
VERSION:2.0
PRODID:icalendar-ruby
CALSCALE:GREGORIAN
METHOD:PUBLISH
BEGIN:VEVENT
DTSTAMP:20260422T085127Z
UID:20-3231146@woodburnchurch.org
DTSTART:20261014T013000Z
DTEND:20261014T023000Z
CLASS:PUBLIC
CREATED:20260421T170835
DESCRIPTION:Iglesia K.I.N.G (Kingdom Inter-National Gospel)
LAST-MODIFIED:20260421T170835
LOCATION:
SUMMARY:Iglesia K.I.N.G  (Kingdom Inter-National Gospel) 
URL;VALUE=URI:https://www.woodburnchurch.org/events/iglesia-k-i-n-g-kingdom
 -inter-national-gospel--20/2026-10-13
ATTACH;FILENAME=FvZX0.jpg;FMTTYPE=image/jpeg:https://dq5pwpg1q8ru0.cloudfro
 nt.net/2022/05/24/15/58/43/38340502-e1fd-4f47-94b0-34c4b99b01da/FvZX0.jpg
END:VEVENT
END:VCALENDAR
