BEGIN:VCALENDAR
VERSION:2.0
PRODID:icalendar-ruby
CALSCALE:GREGORIAN
METHOD:PUBLISH
BEGIN:VEVENT
DTSTAMP:20260426T011749Z
UID:21-3284813@woodburnchurch.org
DTSTART:20261030T020000Z
DTEND:20261030T030000Z
CLASS:PUBLIC
CREATED:20260425T173107
DESCRIPTION:Igiesia Pan De Vida
LAST-MODIFIED:20260425T173107
LOCATION:
SUMMARY:Igiesia Pan De Vida
URL;VALUE=URI:https://www.woodburnchurch.org/events/igiesia-pan-de-vida--21
 /2026-10-29
END:VEVENT
END:VCALENDAR
