BEGIN:VCALENDAR
VERSION:2.0
PRODID:icalendar-ruby
CALSCALE:GREGORIAN
METHOD:PUBLISH
BEGIN:VEVENT
DTSTAMP:20260425T234311Z
UID:21-3282583@woodburnchurch.org
DTSTART:20261023T020000Z
DTEND:20261023T030000Z
CLASS:PUBLIC
CREATED:20260425T144803
DESCRIPTION:Igiesia Pan De Vida
LAST-MODIFIED:20260425T144803
LOCATION:
SUMMARY:Igiesia Pan De Vida
URL;VALUE=URI:https://www.woodburnchurch.org/events/igiesia-pan-de-vida--21
 /2026-10-22
END:VEVENT
END:VCALENDAR
