BEGIN:VCALENDAR
VERSION:2.0
PRODID:icalendar-ruby
CALSCALE:GREGORIAN
METHOD:PUBLISH
BEGIN:VEVENT
DTSTAMP:20260425T203729Z
UID:21-3280352@woodburnchurch.org
DTSTART:20261009T020000Z
DTEND:20261009T030000Z
CLASS:PUBLIC
CREATED:20260425T120554
DESCRIPTION:Igiesia Pan De Vida
LAST-MODIFIED:20260425T120554
LOCATION:
SUMMARY:Igiesia Pan De Vida
URL;VALUE=URI:https://www.woodburnchurch.org/events/igiesia-pan-de-vida--21
 /2026-10-08
END:VEVENT
END:VCALENDAR
