BEGIN:VCALENDAR
VERSION:2.0
PRODID:icalendar-ruby
CALSCALE:GREGORIAN
METHOD:PUBLISH
BEGIN:VEVENT
DTSTAMP:20260425T172627Z
UID:21-3278121@woodburnchurch.org
DTSTART:20260925T020000Z
DTEND:20260925T030000Z
CLASS:PUBLIC
CREATED:20260425T092538
DESCRIPTION:Igiesia Pan De Vida
LAST-MODIFIED:20260425T092538
LOCATION:
SUMMARY:Igiesia Pan De Vida
URL;VALUE=URI:https://www.woodburnchurch.org/events/igiesia-pan-de-vida--21
 /2026-09-24
END:VEVENT
END:VCALENDAR
