BEGIN:VCALENDAR
VERSION:2.0
PRODID:icalendar-ruby
CALSCALE:GREGORIAN
METHOD:PUBLISH
BEGIN:VEVENT
DTSTAMP:20260425T152921Z
UID:21-3275891@woodburnchurch.org
DTSTART:20260918T020000Z
DTEND:20260918T030000Z
CLASS:PUBLIC
CREATED:20260425T064506
DESCRIPTION:Igiesia Pan De Vida
LAST-MODIFIED:20260425T064506
LOCATION:
SUMMARY:Igiesia Pan De Vida
URL;VALUE=URI:https://www.woodburnchurch.org/events/igiesia-pan-de-vida--21
 /2026-09-17
END:VEVENT
END:VCALENDAR
